BEGIN:VCALENDAR
VERSION:2.0
PRODID:-//ChamberMaster//Event Calendar 2.0//EN
METHOD:PUBLISH
X-PUBLISHED-TTL:P3D
REFRESH-INTERVAL:P3D
CALSCALE:GREGORIAN
BEGIN:VEVENT
DTSTART:20260519T161500Z
DTEND:20260519T180000Z
X-MICROSOFT-CDO-ALLDAYEVENT:FALSE
SUMMARY:State of the City Luncheon
DESCRIPTION:Join us for the 2026 State of the City Luncheon with Mayor Gary Iocco and City Council Administrator Chris Heineman. \n\n\n\nWe encourage you and your team to attend to learn more about what may impact your business\, your workforce\, and to learn more about the community as a whole.
X-ALT-DESC;FMTTYPE=text/html:Join us for the 2026 State of the City Luncheon with Mayor Gary Iocco and City Council Administrator Chris Heineman.&nbsp\;<br />\n<br />\nWe encourage you and your team to attend to learn more about what may impact your business\, your workforce\, and to learn more about the community as a whole.&nbsp\;
LOCATION:Minnesota State College Southeast 308 Pioneer Road Red Wing\, MN 55066
UID:e.558.23866
SEQUENCE:3
DTSTAMP:20260424T005706Z
URL:https://www.redwingchamber.com/events/details/state-of-the-city-luncheon-23866
END:VEVENT

END:VCALENDAR
